BEGIN:VCALENDAR
VERSION:2.0
PRODID:-//Wiener Pfadfinder und Pfadfinderinnen - ECPv6.15.20//NONSGML v1.0//EN
CALSCALE:GREGORIAN
METHOD:PUBLISH
X-ORIGINAL-URL:https://www.wpp.at
X-WR-CALDESC:Veranstaltungen für Wiener Pfadfinder und Pfadfinderinnen
REFRESH-INTERVAL;VALUE=DURATION:PT1H
X-Robots-Tag:noindex
X-PUBLISHED-TTL:PT1H
BEGIN:VTIMEZONE
TZID:Europe/Vienna
BEGIN:DAYLIGHT
TZOFFSETFROM:+0100
TZOFFSETTO:+0200
TZNAME:CEST
DTSTART:20260329T010000
END:DAYLIGHT
BEGIN:STANDARD
TZOFFSETFROM:+0200
TZOFFSETTO:+0100
TZNAME:CET
DTSTART:20261025T010000
END:STANDARD
BEGIN:DAYLIGHT
TZOFFSETFROM:+0100
TZOFFSETTO:+0200
TZNAME:CEST
DTSTART:20270328T010000
END:DAYLIGHT
BEGIN:STANDARD
TZOFFSETFROM:+0200
TZOFFSETTO:+0100
TZNAME:CET
DTSTART:20271031T010000
END:STANDARD
BEGIN:DAYLIGHT
TZOFFSETFROM:+0100
TZOFFSETTO:+0200
TZNAME:CEST
DTSTART:20280326T010000
END:DAYLIGHT
BEGIN:STANDARD
TZOFFSETFROM:+0200
TZOFFSETTO:+0100
TZNAME:CET
DTSTART:20281029T010000
END:STANDARD
END:VTIMEZONE
BEGIN:VEVENT
DTSTART;VALUE=DATE:20270604
DTEND;VALUE=DATE:20270606
DTSTAMP:20260425T162941
CREATED:20260414T131526Z
LAST-MODIFIED:20260414T131526Z
UID:6127-1812067200-1812239999@www.wpp.at
SUMMARY:Train the Trainer
DESCRIPTION:Trai
URL:https://www.wpp.at/event/train-the-trainer/
LOCATION:LV NÖ\, Lenaugasse 13\, Klosterneuburg\, 3400\, Austria
CATEGORIES:Biber,CaEx,GL,GuSp,LJR,RaRo,Sport,WiWoe
END:VEVENT
END:VCALENDAR